BEGIN:VCALENDAR
VERSION:2.0
PRODID:-//PRAISE CHURCH THAILAND - ECPv6.15.20//NONSGML v1.0//EN
CALSCALE:GREGORIAN
METHOD:PUBLISH
X-ORIGINAL-URL:https://www.sadudee.org
X-WR-CALDESC:Events for PRAISE CHURCH THAILAND
REFRESH-INTERVAL;VALUE=DURATION:PT1H
X-Robots-Tag:noindex
X-PUBLISHED-TTL:PT1H
BEGIN:VTIMEZONE
TZID:Asia/Bangkok
BEGIN:STANDARD
TZOFFSETFROM:+0700
TZOFFSETTO:+0700
TZNAME:+07
DTSTART:20210101T000000
END:STANDARD
END:VTIMEZONE
BEGIN:VEVENT
DTSTART;VALUE=DATE:20220815
DTEND;VALUE=DATE:20220828
DTSTAMP:20260424T224654
CREATED:20220817T022730Z
LAST-MODIFIED:20220817T022730Z
UID:11819-1660521600-1661644799@www.sadudee.org
SUMMARY:เรียนพิณ
DESCRIPTION:
URL:https://www.sadudee.org/event/%e0%b9%80%e0%b8%a3%e0%b8%b5%e0%b8%a2%e0%b8%99%e0%b8%9e%e0%b8%b4%e0%b8%93/
LOCATION:คริสตจักรสดุดี
ATTACH;FMTTYPE=image/jpeg:https://www.sadudee.org/wp-content/uploads/2022/08/Harp-A3.jpg
END:VEVENT
END:VCALENDAR