BEGIN:VCALENDAR
VERSION:2.0
PRODID:-//PRAISE CHURCH THAILAND - ECPv6.15.20//NONSGML v1.0//EN
CALSCALE:GREGORIAN
METHOD:PUBLISH
X-WR-CALNAME:PRAISE CHURCH THAILAND
X-ORIGINAL-URL:https://www.sadudee.org
X-WR-CALDESC:Events for PRAISE CHURCH THAILAND
REFRESH-INTERVAL;VALUE=DURATION:PT1H
X-Robots-Tag:noindex
X-PUBLISHED-TTL:PT1H
BEGIN:VTIMEZONE
TZID:Asia/Bangkok
BEGIN:STANDARD
TZOFFSETFROM:+0700
TZOFFSETTO:+0700
TZNAME:+07
DTSTART:20210101T000000
END:STANDARD
END:VTIMEZONE
BEGIN:VEVENT
DTSTART;VALUE=DATE:20221023
DTEND;VALUE=DATE:20221024
DTSTAMP:20260424T133424
CREATED:20221021T082456Z
LAST-MODIFIED:20221021T082921Z
UID:11896-1666483200-1666569599@www.sadudee.org
SUMMARY:รอบนมัสการ เช้าและบ่าย
DESCRIPTION:📌วันอาทิตย์ที่ 23 ต.ค. นี้\nขอเชิญพี่น้องมาร่วมนมัสการ ✨\n💒 ณ คริสตจักรสดุดี \n⏰ 10.00-12.30 น.\nฟังคำเทศนา “มิติของวาระสุดท้าย”\nโดย ศจ.ดร.เสรี หล่อกัณภัย \nรับชมถ่ายทอดสดได้ที่\nYoutube: Praise Church Thailand\n✨ https://bit.ly/3b9FqpM \n⏰ 15.00-17.00 น.\nฟังคำเทศนา “พ่อจัดเตรียมสิ่งที่ดีให้”\nโดย ศจ.ภูมิวเนตร เมธีอัครกุล\n(ไม่มีถ่ายทอดสด)
URL:https://www.sadudee.org/event/%e0%b8%a3%e0%b8%ad%e0%b8%9a%e0%b8%99%e0%b8%a1%e0%b8%b1%e0%b8%aa%e0%b8%81%e0%b8%b2%e0%b8%a3-%e0%b9%80%e0%b8%8a%e0%b9%89%e0%b8%b2%e0%b9%81%e0%b8%a5%e0%b8%b0%e0%b8%9a%e0%b9%88%e0%b8%b2%e0%b8%a2/
ATTACH;FMTTYPE=image/jpeg:https://www.sadudee.org/wp-content/uploads/2022/10/Sun-23-Morning.jpg
END:VEVENT
END:VCALENDAR