BEGIN:VCALENDAR
VERSION:2.0
PRODID:-//PRAISE CHURCH THAILAND - ECPv6.15.20//NONSGML v1.0//EN
CALSCALE:GREGORIAN
METHOD:PUBLISH
X-WR-CALNAME:PRAISE CHURCH THAILAND
X-ORIGINAL-URL:https://www.sadudee.org
X-WR-CALDESC:Events for PRAISE CHURCH THAILAND
REFRESH-INTERVAL;VALUE=DURATION:PT1H
X-Robots-Tag:noindex
X-PUBLISHED-TTL:PT1H
BEGIN:VTIMEZONE
TZID:Asia/Bangkok
BEGIN:STANDARD
TZOFFSETFROM:+0700
TZOFFSETTO:+0700
TZNAME:+07
DTSTART:20210101T000000
END:STANDARD
END:VTIMEZONE
BEGIN:VEVENT
DTSTART;TZID=Asia/Bangkok:20221218T100000
DTEND;TZID=Asia/Bangkok:20221218T120000
DTSTAMP:20260424T101728
CREATED:20221027T075242Z
LAST-MODIFIED:20221027T075344Z
UID:11905-1671357600-1671364800@www.sadudee.org
SUMMARY:คริสต์มาสคริสตจักรเด็ก
DESCRIPTION:Christmas Homecoming 2022 \nเสาร์ 18 ธันวาคม คริสต์มาสคริสตจักรเด็ก\nเวลา 10.00 – 12.00 \nเสาร์ 23 ธันวาคม คริสต์มาสใต้แสงเทียน และร้องเพลงอวยพรตามบ้าน\nเวลา 18.30 เป็นต้นไป \nอาทิตย์ 25 ธันวาคม\n09.00 – 12.00 คริสต์มาสประกาศ\n12.00 – 14.00  รับประทานอาหารร่วมกัน\n14.00 – 17.00  คริสต์มาสเฉลิมฉลองครอบครัว
URL:https://www.sadudee.org/event/christmas-homecoming-2022/
CATEGORIES:Christmas
ATTACH;FMTTYPE=image/jpeg:https://www.sadudee.org/wp-content/uploads/2022/10/Homecoming-Christmas-2022-1040x1040-1.jpg
END:VEVENT
END:VCALENDAR