BEGIN:VCALENDAR
VERSION:2.0
PRODID:-//PRAISE CHURCH THAILAND - ECPv6.15.20//NONSGML v1.0//EN
CALSCALE:GREGORIAN
METHOD:PUBLISH
X-ORIGINAL-URL:https://www.sadudee.org
X-WR-CALDESC:Events for PRAISE CHURCH THAILAND
REFRESH-INTERVAL;VALUE=DURATION:PT1H
X-Robots-Tag:noindex
X-PUBLISHED-TTL:PT1H
BEGIN:VTIMEZONE
TZID:Asia/Bangkok
BEGIN:STANDARD
TZOFFSETFROM:+0700
TZOFFSETTO:+0700
TZNAME:+07
DTSTART:20220101T000000
END:STANDARD
END:VTIMEZONE
BEGIN:VEVENT
DTSTART;TZID=Asia/Bangkok:20230409T060000
DTEND;TZID=Asia/Bangkok:20230409T123000
DTSTAMP:20260423T195119
CREATED:20230402T091730Z
LAST-MODIFIED:20230402T091730Z
UID:12080-1681020000-1681043400@www.sadudee.org
SUMMARY:วันฟื้นคืนพระชนม์
DESCRIPTION:
URL:https://www.sadudee.org/event/%e0%b8%a7%e0%b8%b1%e0%b8%99%e0%b8%9f%e0%b8%b7%e0%b9%89%e0%b8%99%e0%b8%84%e0%b8%b7%e0%b8%99%e0%b8%9e%e0%b8%a3%e0%b8%b0%e0%b8%8a%e0%b8%99%e0%b8%a1%e0%b9%8c/
LOCATION:คริสตจักรสดุดี
ATTACH;FMTTYPE=image/jpeg:https://www.sadudee.org/wp-content/uploads/2023/04/RES-2023.jpg
END:VEVENT
END:VCALENDAR