BEGIN:VCALENDAR
VERSION:2.0
PRODID:-//PRAISE CHURCH THAILAND - ECPv6.15.20//NONSGML v1.0//EN
CALSCALE:GREGORIAN
METHOD:PUBLISH
X-WR-CALNAME:PRAISE CHURCH THAILAND
X-ORIGINAL-URL:https://www.sadudee.org
X-WR-CALDESC:Events for PRAISE CHURCH THAILAND
REFRESH-INTERVAL;VALUE=DURATION:PT1H
X-Robots-Tag:noindex
X-PUBLISHED-TTL:PT1H
BEGIN:VTIMEZONE
TZID:Asia/Bangkok
BEGIN:STANDARD
TZOFFSETFROM:+0700
TZOFFSETTO:+0700
TZNAME:+07
DTSTART:20220101T000000
END:STANDARD
END:VTIMEZONE
BEGIN:VEVENT
DTSTART;VALUE=DATE:20230429
DTEND;VALUE=DATE:20230502
DTSTAMP:20260421T221554
CREATED:20230122T091651Z
LAST-MODIFIED:20230122T091651Z
UID:12022-1682726400-1682985599@www.sadudee.org
SUMMARY:ค่ายคริสตจักร หนึ่งเดียวในบ้านพระบิดา
DESCRIPTION:
URL:https://www.sadudee.org/event/%e0%b8%84%e0%b9%88%e0%b8%b2%e0%b8%a2%e0%b8%84%e0%b8%a3%e0%b8%b4%e0%b8%aa%e0%b8%95%e0%b8%88%e0%b8%b1%e0%b8%81%e0%b8%a3-%e0%b8%ab%e0%b8%99%e0%b8%b6%e0%b9%88%e0%b8%87%e0%b9%80%e0%b8%94%e0%b8%b5%e0%b8%a2/
CATEGORIES:ค่ายคริสตจักร
ATTACH;FMTTYPE=image/jpeg:https://www.sadudee.org/wp-content/uploads/2023/01/595460.jpg
END:VEVENT
BEGIN:VEVENT
DTSTART;VALUE=DATE:20230429
DTEND;VALUE=DATE:20230503
DTSTAMP:20260421T221554
CREATED:20230426T074559Z
LAST-MODIFIED:20230426T074559Z
UID:12084-1682726400-1683071999@www.sadudee.org
SUMMARY:คริสตจักรปิดทำการ
DESCRIPTION:เนื่องจากทางคริสตจักรได้มีการจัดค่ายในวันที่ 29 เมษายน ถึง วันที่ 1 พฤษภาคม และ วันที่ 2 พฤษภาคม เป็นวันหยุดชดเชยวันแรงงาน จึงขอแจ้งปิดนิเวศอธิษฐาน และจะเปิดตามปกติ ในวันพุธที่ 3 พฤษภาคมค่ะ
URL:https://www.sadudee.org/event/%e0%b8%84%e0%b8%a3%e0%b8%b4%e0%b8%aa%e0%b8%95%e0%b8%88%e0%b8%b1%e0%b8%81%e0%b8%a3%e0%b8%9b%e0%b8%b4%e0%b8%94%e0%b8%97%e0%b8%b3%e0%b8%81%e0%b8%b2%e0%b8%a3/
ATTACH;FMTTYPE=image/jpeg:https://www.sadudee.org/wp-content/uploads/2023/04/29-Apr-to-2-May.jpg
END:VEVENT
END:VCALENDAR