BEGIN:VCALENDAR
VERSION:2.0
PRODID:-//PRAISE CHURCH THAILAND - ECPv6.15.20//NONSGML v1.0//EN
CALSCALE:GREGORIAN
METHOD:PUBLISH
X-ORIGINAL-URL:https://www.sadudee.org
X-WR-CALDESC:Events for PRAISE CHURCH THAILAND
REFRESH-INTERVAL;VALUE=DURATION:PT1H
X-Robots-Tag:noindex
X-PUBLISHED-TTL:PT1H
BEGIN:VTIMEZONE
TZID:Asia/Bangkok
BEGIN:STANDARD
TZOFFSETFROM:+0700
TZOFFSETTO:+0700
TZNAME:+07
DTSTART:20220101T000000
END:STANDARD
END:VTIMEZONE
BEGIN:VEVENT
DTSTART;TZID=Asia/Bangkok:20230527T070000
DTEND;TZID=Asia/Bangkok:20230527T190000
DTSTAMP:20260422T012927
CREATED:20230426T074851Z
LAST-MODIFIED:20230426T074851Z
UID:12089-1685170800-1685214000@www.sadudee.org
SUMMARY:อธิษฐาน 12 ชั่วโมง
DESCRIPTION:
URL:https://www.sadudee.org/event/%e0%b8%ad%e0%b8%98%e0%b8%b4%e0%b8%a9%e0%b8%90%e0%b8%b2%e0%b8%99-12-%e0%b8%8a%e0%b8%b1%e0%b9%88%e0%b8%a7%e0%b9%82%e0%b8%a1%e0%b8%87-3/
LOCATION:คริสตจักรสดุดี
ATTACH;FMTTYPE=image/jpeg:https://www.sadudee.org/wp-content/uploads/2023/04/12-Hr-SDD-MAY.jpg
END:VEVENT
END:VCALENDAR