BEGIN:VCALENDAR
VERSION:2.0
PRODID:-//PRAISE CHURCH THAILAND - ECPv6.15.20//NONSGML v1.0//EN
CALSCALE:GREGORIAN
METHOD:PUBLISH
X-WR-CALNAME:PRAISE CHURCH THAILAND
X-ORIGINAL-URL:https://www.sadudee.org
X-WR-CALDESC:Events for PRAISE CHURCH THAILAND
REFRESH-INTERVAL;VALUE=DURATION:PT1H
X-Robots-Tag:noindex
X-PUBLISHED-TTL:PT1H
BEGIN:VTIMEZONE
TZID:Asia/Bangkok
BEGIN:STANDARD
TZOFFSETFROM:+0700
TZOFFSETTO:+0700
TZNAME:+07
DTSTART:20220101T000000
END:STANDARD
END:VTIMEZONE
BEGIN:VEVENT
DTSTART;VALUE=DATE:20230616
DTEND;VALUE=DATE:20230619
DTSTAMP:20260421T203247
CREATED:20230516T101335Z
LAST-MODIFIED:20230516T101335Z
UID:12107-1686873600-1687132799@www.sadudee.org
SUMMARY:สัมมนา อิสราเอลคือนาฬิกาบอกเวลาของโลก
DESCRIPTION:
URL:https://www.sadudee.org/event/%e0%b8%aa%e0%b8%b1%e0%b8%a1%e0%b8%a1%e0%b8%99%e0%b8%b2-%e0%b8%ad%e0%b8%b4%e0%b8%aa%e0%b8%a3%e0%b8%b2%e0%b9%80%e0%b8%ad%e0%b8%a5%e0%b8%84%e0%b8%b7%e0%b8%ad%e0%b8%99%e0%b8%b2%e0%b8%ac%e0%b8%b4%e0%b8%81/
LOCATION:คริสตจักรสดุดี
CATEGORIES:สัมมนาพิเศษ
ATTACH;FMTTYPE=image/jpeg:https://www.sadudee.org/wp-content/uploads/2023/05/LED-1920-x-1080-pixel-Israel-ICEJ-June-2023.jpg
END:VEVENT
END:VCALENDAR