BEGIN:VCALENDAR
VERSION:2.0
PRODID:-//PRAISE CHURCH THAILAND - ECPv6.15.20//NONSGML v1.0//EN
CALSCALE:GREGORIAN
METHOD:PUBLISH
X-ORIGINAL-URL:https://www.sadudee.org
X-WR-CALDESC:Events for PRAISE CHURCH THAILAND
REFRESH-INTERVAL;VALUE=DURATION:PT1H
X-Robots-Tag:noindex
X-PUBLISHED-TTL:PT1H
BEGIN:VTIMEZONE
TZID:Asia/Bangkok
BEGIN:STANDARD
TZOFFSETFROM:+0700
TZOFFSETTO:+0700
TZNAME:+07
DTSTART:20220101T000000
END:STANDARD
END:VTIMEZONE
BEGIN:VEVENT
DTSTART;TZID=Asia/Bangkok:20231222T183000
DTEND;TZID=Asia/Bangkok:20231222T213000
DTSTAMP:20260421T004825
CREATED:20231212T105140Z
LAST-MODIFIED:20231212T105239Z
UID:12518-1703269800-1703280600@www.sadudee.org
SUMMARY:คริสต์มาสนมัสการ
DESCRIPTION:ค่ำคืนแห่งการนมัสการต้อนรับเทศกาลคริสมาสต์ เทศกาลแห่งความรัก\nวันศุกร์ที่ 22 ธันวาคม ตั้งแต่เวลา 18:30 เป็นต้นไป
URL:https://www.sadudee.org/event/%e0%b8%84%e0%b8%a3%e0%b8%b4%e0%b8%aa%e0%b8%95%e0%b9%8c%e0%b8%a1%e0%b8%b2%e0%b8%aa%e0%b8%99%e0%b8%a1%e0%b8%b1%e0%b8%aa%e0%b8%81%e0%b8%b2%e0%b8%a3/
LOCATION:คริสตจักรสดุดี
CATEGORIES:Christmas
ATTACH;FMTTYPE=image/jpeg:https://www.sadudee.org/wp-content/uploads/2023/12/S__21323797.jpg
END:VEVENT
END:VCALENDAR