BEGIN:VCALENDAR
VERSION:2.0
PRODID:-//PRAISE CHURCH THAILAND - ECPv6.15.20//NONSGML v1.0//EN
CALSCALE:GREGORIAN
METHOD:PUBLISH
X-ORIGINAL-URL:https://www.sadudee.org
X-WR-CALDESC:Events for PRAISE CHURCH THAILAND
REFRESH-INTERVAL;VALUE=DURATION:PT1H
X-Robots-Tag:noindex
X-PUBLISHED-TTL:PT1H
BEGIN:VTIMEZONE
TZID:Asia/Bangkok
BEGIN:STANDARD
TZOFFSETFROM:+0700
TZOFFSETTO:+0700
TZNAME:+07
DTSTART:20220101T000000
END:STANDARD
END:VTIMEZONE
BEGIN:VEVENT
DTSTART;VALUE=DATE:20231224
DTEND;VALUE=DATE:20231225
DTSTAMP:20260420T230956
CREATED:20231212T105415Z
LAST-MODIFIED:20231212T105447Z
UID:12522-1703376000-1703462399@www.sadudee.org
SUMMARY:คริสต์มาสประกาศ
DESCRIPTION:วันแห่งการเฉลิมฉลอง ทั้งกิจกรรม การแสดง และของรางวัลมากมาย\nวันอาทิตย์ที่ 24 ธันวาคม 2023
URL:https://www.sadudee.org/event/%e0%b8%84%e0%b8%a3%e0%b8%b4%e0%b8%aa%e0%b8%95%e0%b9%8c%e0%b8%a1%e0%b8%b2%e0%b8%aa%e0%b8%9b%e0%b8%a3%e0%b8%b0%e0%b8%81%e0%b8%b2%e0%b8%a8/
LOCATION:คริสตจักรสดุดี
CATEGORIES:Christmas
ATTACH;FMTTYPE=image/jpeg:https://www.sadudee.org/wp-content/uploads/2023/12/S__21323797.jpg
END:VEVENT
END:VCALENDAR