BEGIN:VCALENDAR
VERSION:2.0
PRODID:-//PRAISE CHURCH THAILAND - ECPv6.15.20//NONSGML v1.0//EN
CALSCALE:GREGORIAN
METHOD:PUBLISH
X-ORIGINAL-URL:https://www.sadudee.org
X-WR-CALDESC:Events for PRAISE CHURCH THAILAND
REFRESH-INTERVAL;VALUE=DURATION:PT1H
X-Robots-Tag:noindex
X-PUBLISHED-TTL:PT1H
BEGIN:VTIMEZONE
TZID:Asia/Bangkok
BEGIN:STANDARD
TZOFFSETFROM:+0700
TZOFFSETTO:+0700
TZNAME:+07
DTSTART:20230101T000000
END:STANDARD
END:VTIMEZONE
BEGIN:VEVENT
DTSTART;VALUE=DATE:20240202
DTEND;VALUE=DATE:20240205
DTSTAMP:20260420T142218
CREATED:20240112T075058Z
LAST-MODIFIED:20240112T075058Z
UID:12541-1706832000-1707091199@www.sadudee.org
SUMMARY:Encounter : โปรดสถาปนาแผนการของพระองค์ในเรา
DESCRIPTION:>>> ลงทะเบียน Encounter <<<\nวันที่ 2-4 กุมภาพันธ์ 2024\n——————————\n“ขอความโปรดปรานของพระเจ้าของข้าพระองค์อยู่ เหนือข้าพระองค์ทั้งหลาย\nขอทรงสถาปนาหัตถกิจของข้าพระองค์เหนือข้าพระองค์\nพระเจ้าข้า ขอพระองค์ทรงสถาปนาหัตถกิจของ ข้าพระองค์ทั้งหลาย”\nสดุดี 90:17
URL:https://www.sadudee.org/event/encounter-%e0%b9%82%e0%b8%9b%e0%b8%a3%e0%b8%94%e0%b8%aa%e0%b8%96%e0%b8%b2%e0%b8%9b%e0%b8%99%e0%b8%b2%e0%b9%81%e0%b8%9c%e0%b8%99%e0%b8%81%e0%b8%b2%e0%b8%a3%e0%b8%82%e0%b8%ad%e0%b8%87%e0%b8%9e/
CATEGORIES:Encounter
ATTACH;FMTTYPE=image/jpeg:https://www.sadudee.org/wp-content/uploads/2024/01/LED-Encounter-Establish-FEB-2024.jpg
END:VEVENT
END:VCALENDAR