BEGIN:VCALENDAR
VERSION:2.0
PRODID:-//PRAISE CHURCH THAILAND - ECPv6.15.20//NONSGML v1.0//EN
CALSCALE:GREGORIAN
METHOD:PUBLISH
X-ORIGINAL-URL:https://www.sadudee.org
X-WR-CALDESC:Events for PRAISE CHURCH THAILAND
REFRESH-INTERVAL;VALUE=DURATION:PT1H
X-Robots-Tag:noindex
X-PUBLISHED-TTL:PT1H
BEGIN:VTIMEZONE
TZID:Asia/Bangkok
BEGIN:STANDARD
TZOFFSETFROM:+0700
TZOFFSETTO:+0700
TZNAME:+07
DTSTART:20230101T000000
END:STANDARD
END:VTIMEZONE
BEGIN:VEVENT
DTSTART;VALUE=DATE:20240211
DTEND;VALUE=DATE:20240212
DTSTAMP:20260420T161721
CREATED:20240206T063453Z
LAST-MODIFIED:20240206T063453Z
UID:12562-1707609600-1707695999@www.sadudee.org
SUMMARY:วาเลนไทน์กับความหมาย " ที่แท้จริง "
DESCRIPTION:🌈เราแต่ละคนต่างออกเดินทางค้นหาความรักที่หัวใจรอคอย หาความรักที่ดีและมีความสุขในทุกๆวัน ความรักที่ไม่ต้องพยายาม ความรักแบบนี้มีจริง ??? \n❤️ขอเชิญทุกคนร่วมเดินทางมา”พบรักแท้” ไปด้วยกัน\nที่นี่คุณจะได้พบความสุขใหม่ๆ เรียนรู้สิ่งใหม่ๆ แล้วที่สำคัญคุณจะพบคำตอบของความรักที่แท้จริง ที่คุณเฝ้ารอ \n⏰เชิญพี่น้องทุกท่าน ร่วมงาน วาเลนไทน์ กับความหมายที่แท้จริง\n”..I found the one whom my heart love..“\n“…ฉันได้พบผู้ที่ดวงใจของฉันรัก..“ \n📩อาทิตย์ที่ 11 กุมภาพันธ์ 2024\nเวลา 10.00 – 12.00 น. ณ คริสตจักรสดุดี
URL:https://www.sadudee.org/event/%e0%b8%a7%e0%b8%b2%e0%b9%80%e0%b8%a5%e0%b8%99%e0%b9%84%e0%b8%97%e0%b8%99%e0%b9%8c%e0%b8%81%e0%b8%b1%e0%b8%9a%e0%b8%84%e0%b8%a7%e0%b8%b2%e0%b8%a1%e0%b8%ab%e0%b8%a1%e0%b8%b2%e0%b8%a2-%e0%b8%97/
LOCATION:คริสตจักรสดุดี
CATEGORIES:เทศกาลพิเศษ
ATTACH;FMTTYPE=image/jpeg:https://www.sadudee.org/wp-content/uploads/2024/02/408396.jpg
END:VEVENT
END:VCALENDAR