BEGIN:VCALENDAR
VERSION:2.0
PRODID:-//PRAISE CHURCH THAILAND - ECPv6.15.20//NONSGML v1.0//EN
CALSCALE:GREGORIAN
METHOD:PUBLISH
X-WR-CALNAME:PRAISE CHURCH THAILAND
X-ORIGINAL-URL:https://www.sadudee.org
X-WR-CALDESC:Events for PRAISE CHURCH THAILAND
REFRESH-INTERVAL;VALUE=DURATION:PT1H
X-Robots-Tag:noindex
X-PUBLISHED-TTL:PT1H
BEGIN:VTIMEZONE
TZID:Asia/Bangkok
BEGIN:STANDARD
TZOFFSETFROM:+0700
TZOFFSETTO:+0700
TZNAME:+07
DTSTART:20230101T000000
END:STANDARD
END:VTIMEZONE
BEGIN:VEVENT
DTSTART;VALUE=DATE:20240322
DTEND;VALUE=DATE:20240325
DTSTAMP:20260420T122823
CREATED:20240206T064413Z
LAST-MODIFIED:20240206T064413Z
UID:12568-1711065600-1711324799@www.sadudee.org
SUMMARY:Deep Level Inner Healing Part 2
DESCRIPTION:ㆍการเยียวยารักษาบาดแผลในจิตใจระดับลึก (Deep Level Inner Healing & Deliverance)\nㆍเข้าใจถึงความจริงในพระคัมภีร์ ที่จะช่วยให้คุณรับการเยียวยาบาดแผลทางจิตใจ ผ่านทางฤทธิ์เดชแห่งไม้กางเขน\nเรียนรู้หลักการในพระคัมภีร์เกี่ยวกับการดูแลอภิบาล และการประยุกต์ใช้เพื่อฟื้นฟูชีวิตที่แตกสลาย \nโดยวิทยากร : Sandra Moo  จาก Fountain Gate Ministries\nพันธกิจด้านการอธิษฐาน และสอน หลักสูตรการรักษาบาดแผลทางจิตใจ และการอธิษฐานวิงวอน กว่า 30 ปี
URL:https://www.sadudee.org/event/deep-level-inner-healing-part-2/
LOCATION:คริสตจักรสดุดี
CATEGORIES:สัมมนาพิเศษ
ATTACH;FMTTYPE=image/jpeg:https://www.sadudee.org/wp-content/uploads/2024/02/1200-A3-Deep-Level-Inner-Healing-2024-jpg_0.jpg
END:VEVENT
END:VCALENDAR