BEGIN:VCALENDAR
VERSION:2.0
PRODID:-//PRAISE CHURCH THAILAND - ECPv6.15.20//NONSGML v1.0//EN
CALSCALE:GREGORIAN
METHOD:PUBLISH
X-WR-CALNAME:PRAISE CHURCH THAILAND
X-ORIGINAL-URL:https://www.sadudee.org
X-WR-CALDESC:Events for PRAISE CHURCH THAILAND
REFRESH-INTERVAL;VALUE=DURATION:PT1H
X-Robots-Tag:noindex
X-PUBLISHED-TTL:PT1H
BEGIN:VTIMEZONE
TZID:Asia/Krasnoyarsk
BEGIN:STANDARD
TZOFFSETFROM:+0700
TZOFFSETTO:+0700
TZNAME:+07
DTSTART:20210101T000000
END:STANDARD
END:VTIMEZONE
BEGIN:VEVENT
DTSTART;VALUE=DATE:20220728
DTEND;VALUE=DATE:20220729
DTSTAMP:20260421T064009
CREATED:20220723T092004Z
LAST-MODIFIED:20220723T092004Z
UID:11647-1658966400-1659052799@www.sadudee.org
SUMMARY:วันหยุดคริสตจักรและนิเวศอธิษฐาน
DESCRIPTION:
URL:https://www.sadudee.org/event/%e0%b8%a7%e0%b8%b1%e0%b8%99%e0%b8%ab%e0%b8%a2%e0%b8%b8%e0%b8%94%e0%b8%84%e0%b8%a3%e0%b8%b4%e0%b8%aa%e0%b8%95%e0%b8%88%e0%b8%b1%e0%b8%81%e0%b8%a3%e0%b9%81%e0%b8%a5%e0%b8%b0%e0%b8%99%e0%b8%b4%e0%b9%80/
CATEGORIES:วันหยุด
ATTACH;FMTTYPE=image/jpeg:https://www.sadudee.org/wp-content/uploads/2022/07/Cov-19-sign.jpg
END:VEVENT
END:VCALENDAR