BEGIN:VCALENDAR
VERSION:2.0
PRODID:-//PRAISE CHURCH THAILAND - ECPv6.15.20//NONSGML v1.0//EN
CALSCALE:GREGORIAN
METHOD:PUBLISH
X-WR-CALNAME:PRAISE CHURCH THAILAND
X-ORIGINAL-URL:https://www.sadudee.org
X-WR-CALDESC:Events for PRAISE CHURCH THAILAND
REFRESH-INTERVAL;VALUE=DURATION:PT1H
X-Robots-Tag:noindex
X-PUBLISHED-TTL:PT1H
BEGIN:VTIMEZONE
TZID:Asia/Bangkok
BEGIN:STANDARD
TZOFFSETFROM:+0700
TZOFFSETTO:+0700
TZNAME:+07
DTSTART:20210101T000000
END:STANDARD
END:VTIMEZONE
BEGIN:VEVENT
DTSTART;TZID=Asia/Bangkok:20220904T100000
DTEND;TZID=Asia/Bangkok:20220904T123000
DTSTAMP:20260424T133403
CREATED:20220824T100527Z
LAST-MODIFIED:20220824T100620Z
UID:11841-1662285600-1662294600@www.sadudee.org
SUMMARY:รอบนมัสการ และ พิธีมหาสนิท
DESCRIPTION:
URL:https://www.sadudee.org/event/%e0%b8%a3%e0%b8%ad%e0%b8%9a%e0%b8%99%e0%b8%a1%e0%b8%b1%e0%b8%aa%e0%b8%81%e0%b8%b2%e0%b8%a3%e0%b8%a7%e0%b8%b1%e0%b8%99%e0%b8%ad%e0%b8%b2%e0%b8%97%e0%b8%b4%e0%b8%95%e0%b8%a2%e0%b9%8c%e0%b8%99%e0%b8%b5/
ATTACH;FMTTYPE=image/jpeg:https://www.sadudee.org/wp-content/uploads/2022/08/Communion4-Sep-22.jpg
END:VEVENT
BEGIN:VEVENT
DTSTART;VALUE=DATE:20220922
DTEND;VALUE=DATE:20220925
DTSTAMP:20260424T133403
CREATED:20220817T023251Z
LAST-MODIFIED:20220914T031221Z
UID:11825-1663804800-1664063999@www.sadudee.org
SUMMARY:Homecoming Gathering 2022
DESCRIPTION:
URL:https://www.sadudee.org/event/homecoming-gathering/
LOCATION:คริสตจักรสดุดี
CATEGORIES:สัมมนาพิเศษ
ATTACH;FMTTYPE=image/jpeg:https://www.sadudee.org/wp-content/uploads/2022/08/977068.jpg
END:VEVENT
BEGIN:VEVENT
DTSTART;TZID=Asia/Bangkok:20220925T170000
DTEND;TZID=Asia/Bangkok:20220925T200000
DTSTAMP:20260424T133403
CREATED:20220826T084932Z
LAST-MODIFIED:20220830T093719Z
UID:11847-1664125200-1664136000@www.sadudee.org
SUMMARY:Rosh Hashanah 5783
DESCRIPTION:
URL:https://www.sadudee.org/event/rosh-hashanah-5783/
CATEGORIES:เทศกาลพิเศษ
ATTACH;FMTTYPE=image/jpeg:https://www.sadudee.org/wp-content/uploads/2022/08/Rosh-hashanah-5783-1.jpg
END:VEVENT
BEGIN:VEVENT
DTSTART;TZID=Asia/Bangkok:20220930T080000
DTEND;TZID=Asia/Bangkok:20220930T170000
DTSTAMP:20260424T133403
CREATED:20220930T054915Z
LAST-MODIFIED:20220930T054915Z
UID:11880-1664524800-1664557200@www.sadudee.org
SUMMARY:วันหยุดคริสตจักรและนิเวศอธิษฐาน
DESCRIPTION:
URL:https://www.sadudee.org/event/%e0%b8%a7%e0%b8%b1%e0%b8%99%e0%b8%ab%e0%b8%a2%e0%b8%b8%e0%b8%94%e0%b8%84%e0%b8%a3%e0%b8%b4%e0%b8%aa%e0%b8%95%e0%b8%88%e0%b8%b1%e0%b8%81%e0%b8%a3%e0%b9%81%e0%b8%a5%e0%b8%b0%e0%b8%99%e0%b8%b4%e0%b9%80-4/
CATEGORIES:วันหยุด
ATTACH;FMTTYPE=image/jpeg:https://www.sadudee.org/wp-content/uploads/2022/09/25-OCT-22.jpg
END:VEVENT
END:VCALENDAR