BEGIN:VCALENDAR
VERSION:2.0
PRODID:-//PRAISE CHURCH THAILAND - ECPv6.15.20//NONSGML v1.0//EN
CALSCALE:GREGORIAN
METHOD:PUBLISH
X-WR-CALNAME:PRAISE CHURCH THAILAND
X-ORIGINAL-URL:https://www.sadudee.org
X-WR-CALDESC:Events for PRAISE CHURCH THAILAND
REFRESH-INTERVAL;VALUE=DURATION:PT1H
X-Robots-Tag:noindex
X-PUBLISHED-TTL:PT1H
BEGIN:VTIMEZONE
TZID:Asia/Bangkok
BEGIN:STANDARD
TZOFFSETFROM:+0700
TZOFFSETTO:+0700
TZNAME:+07
DTSTART:20220101T000000
END:STANDARD
END:VTIMEZONE
BEGIN:VEVENT
DTSTART;TZID=Asia/Bangkok:20230101T100000
DTEND;TZID=Asia/Bangkok:20230101T123000
DTSTAMP:20260424T040255
CREATED:20221220T093419Z
LAST-MODIFIED:20221220T093419Z
UID:11997-1672567200-1672576200@www.sadudee.org
SUMMARY:รอบนมัสการ และ พิธีมหาสนิท
DESCRIPTION:
URL:https://www.sadudee.org/event/%e0%b8%a3%e0%b8%ad%e0%b8%9a%e0%b8%99%e0%b8%a1%e0%b8%b1%e0%b8%aa%e0%b8%81%e0%b8%b2%e0%b8%a3-%e0%b9%81%e0%b8%a5%e0%b8%b0-%e0%b8%9e%e0%b8%b4%e0%b8%98%e0%b8%b5%e0%b8%a1%e0%b8%ab%e0%b8%b2%e0%b8%aa-4/
ATTACH;FMTTYPE=image/jpeg:https://www.sadudee.org/wp-content/uploads/2022/12/Communion.jpg
END:VEVENT
END:VCALENDAR