BEGIN:VCALENDAR
VERSION:2.0
PRODID:-//PRAISE CHURCH THAILAND - ECPv6.15.20//NONSGML v1.0//EN
CALSCALE:GREGORIAN
METHOD:PUBLISH
X-ORIGINAL-URL:https://www.sadudee.org
X-WR-CALDESC:Events for PRAISE CHURCH THAILAND
REFRESH-INTERVAL;VALUE=DURATION:PT1H
X-Robots-Tag:noindex
X-PUBLISHED-TTL:PT1H
BEGIN:VTIMEZONE
TZID:Asia/Bangkok
BEGIN:STANDARD
TZOFFSETFROM:+0700
TZOFFSETTO:+0700
TZNAME:+07
DTSTART:20220101T000000
END:STANDARD
END:VTIMEZONE
BEGIN:VEVENT
DTSTART;VALUE=DATE:20230203
DTEND;VALUE=DATE:20230206
DTSTAMP:20260423T214838
CREATED:20221202T091531Z
LAST-MODIFIED:20221213T083148Z
UID:11966-1675382400-1675641599@www.sadudee.org
SUMMARY:Encounter Homecoming เราจะลุกขึ้นไปหาบิดาเรา
DESCRIPTION:ลงทะเบียน Encounter\nhttps://bit.ly/3OW35PV
URL:https://www.sadudee.org/event/encounter/
LOCATION:คริสตจักรสดุดี
CATEGORIES:Encounter
ATTACH;FMTTYPE=image/jpeg:https://www.sadudee.org/wp-content/uploads/2022/12/Homecoming-Encounter-A3-1.jpg
END:VEVENT
BEGIN:VEVENT
DTSTART;VALUE=DATE:20230217
DTEND;VALUE=DATE:20230220
DTSTAMP:20260423T214838
CREATED:20230201T111336Z
LAST-MODIFIED:20230201T111529Z
UID:12032-1676592000-1676851199@www.sadudee.org
SUMMARY:สัมมนา เผชิญหน้ากับไฟแห่งการทรงสถิต
DESCRIPTION:ดูรายละเอียดในไฟล์แนบ หรือสอบถามข้อมูลเพิ่มเติมในไลน์ คริสตจักรสดุดี https://lin.ee/A19nqN5
URL:https://www.sadudee.org/event/%e0%b8%aa%e0%b8%b1%e0%b8%a1%e0%b8%a1%e0%b8%99%e0%b8%b2-%e0%b9%80%e0%b8%9c%e0%b8%8a%e0%b8%b4%e0%b8%8d%e0%b8%ab%e0%b8%99%e0%b9%89%e0%b8%b2%e0%b8%81%e0%b8%b1%e0%b8%9a%e0%b9%84%e0%b8%9f%e0%b9%81%e0%b8%ab/
LOCATION:คริสตจักรสดุดี
CATEGORIES:สัมมนาพิเศษ
ATTACH;FMTTYPE=image/jpeg:https://www.sadudee.org/wp-content/uploads/2023/02/Encounter-with-Fire-2023.jpg
END:VEVENT
BEGIN:VEVENT
DTSTART;TZID=Asia/Bangkok:20230225T060000
DTEND;TZID=Asia/Bangkok:20230225T180000
DTSTAMP:20260423T214838
CREATED:20230201T111917Z
LAST-MODIFIED:20230201T111917Z
UID:12037-1677304800-1677348000@www.sadudee.org
SUMMARY:อธิษฐาน 12 ชั่วโมง
DESCRIPTION:
URL:https://www.sadudee.org/event/%e0%b8%ad%e0%b8%98%e0%b8%b4%e0%b8%a9%e0%b8%90%e0%b8%b2%e0%b8%99-12-%e0%b8%8a%e0%b8%b1%e0%b9%88%e0%b8%a7%e0%b9%82%e0%b8%a1%e0%b8%87/
LOCATION:คริสตจักรสดุดี
CATEGORIES:งานอธิษฐาน
ATTACH;FMTTYPE=image/jpeg:https://www.sadudee.org/wp-content/uploads/2023/02/12-Hr-SDD-FEB2023.jpg
END:VEVENT
END:VCALENDAR