BEGIN:VCALENDAR
VERSION:2.0
PRODID:-//PRAISE CHURCH THAILAND - ECPv6.15.20//NONSGML v1.0//EN
CALSCALE:GREGORIAN
METHOD:PUBLISH
X-WR-CALNAME:PRAISE CHURCH THAILAND
X-ORIGINAL-URL:https://www.sadudee.org
X-WR-CALDESC:Events for PRAISE CHURCH THAILAND
REFRESH-INTERVAL;VALUE=DURATION:PT1H
X-Robots-Tag:noindex
X-PUBLISHED-TTL:PT1H
BEGIN:VTIMEZONE
TZID:Asia/Bangkok
BEGIN:STANDARD
TZOFFSETFROM:+0700
TZOFFSETTO:+0700
TZNAME:+07
DTSTART:20220101T000000
END:STANDARD
END:VTIMEZONE
BEGIN:VEVENT
DTSTART;TZID=Asia/Bangkok:20230305T100000
DTEND;TZID=Asia/Bangkok:20230305T160000
DTSTAMP:20260423T200057
CREATED:20230224T064042Z
LAST-MODIFIED:20230224T064520Z
UID:12049-1678010400-1678032000@www.sadudee.org
SUMMARY:คำเทศนาและคำสอนพิเศษ
DESCRIPTION:โดย Rev.Dr.David Wu
URL:https://www.sadudee.org/event/%e0%b8%84%e0%b8%b3%e0%b9%80%e0%b8%97%e0%b8%a8%e0%b8%99%e0%b8%b2%e0%b9%81%e0%b8%a5%e0%b8%b0%e0%b8%84%e0%b8%b3%e0%b8%aa%e0%b8%ad%e0%b8%99%e0%b8%9e%e0%b8%b4%e0%b9%80%e0%b8%a8%e0%b8%a9/
LOCATION:คริสตจักรสดุดี
CATEGORIES:สัมมนาพิเศษ
ATTACH;FMTTYPE=image/jpeg:https://www.sadudee.org/wp-content/uploads/2023/02/David-Wu-2023.jpg
END:VEVENT
BEGIN:VEVENT
DTSTART;TZID=Asia/Bangkok:20230325T060000
DTEND;TZID=Asia/Bangkok:20230325T180000
DTSTAMP:20260423T200057
CREATED:20230224T064441Z
LAST-MODIFIED:20230224T064441Z
UID:12052-1679724000-1679767200@www.sadudee.org
SUMMARY:อธิษฐาน 12 ชั่วโมง
DESCRIPTION:
URL:https://www.sadudee.org/event/%e0%b8%ad%e0%b8%98%e0%b8%b4%e0%b8%a9%e0%b8%90%e0%b8%b2%e0%b8%99-12-%e0%b8%8a%e0%b8%b1%e0%b9%88%e0%b8%a7%e0%b9%82%e0%b8%a1%e0%b8%87-2/
LOCATION:คริสตจักรสดุดี
CATEGORIES:งานอธิษฐาน
ATTACH;FMTTYPE=image/jpeg:https://www.sadudee.org/wp-content/uploads/2023/02/12-Hr-SDD-1040x1040-1.jpg
END:VEVENT
END:VCALENDAR