BEGIN:VCALENDAR
VERSION:2.0
PRODID:-//PRAISE CHURCH THAILAND - ECPv6.15.20//NONSGML v1.0//EN
CALSCALE:GREGORIAN
METHOD:PUBLISH
X-WR-CALNAME:PRAISE CHURCH THAILAND
X-ORIGINAL-URL:https://www.sadudee.org
X-WR-CALDESC:Events for PRAISE CHURCH THAILAND
REFRESH-INTERVAL;VALUE=DURATION:PT1H
X-Robots-Tag:noindex
X-PUBLISHED-TTL:PT1H
BEGIN:VTIMEZONE
TZID:Asia/Bangkok
BEGIN:STANDARD
TZOFFSETFROM:+0700
TZOFFSETTO:+0700
TZNAME:+07
DTSTART:20220101T000000
END:STANDARD
END:VTIMEZONE
BEGIN:VEVENT
DTSTART;VALUE=DATE:20230818
DTEND;VALUE=DATE:20230821
DTSTAMP:20260421T105842
CREATED:20230818T103159Z
LAST-MODIFIED:20230818T103159Z
UID:12449-1692316800-1692575999@www.sadudee.org
SUMMARY:สัมมนา หมายสำคัญของการเสด็จมา
DESCRIPTION:
URL:https://www.sadudee.org/event/%e0%b8%aa%e0%b8%b1%e0%b8%a1%e0%b8%a1%e0%b8%99%e0%b8%b2-%e0%b8%ab%e0%b8%a1%e0%b8%b2%e0%b8%a2%e0%b8%aa%e0%b8%b3%e0%b8%84%e0%b8%b1%e0%b8%8d%e0%b8%82%e0%b8%ad%e0%b8%87%e0%b8%81%e0%b8%b2%e0%b8%a3%e0%b9%80/
LOCATION:คริสตจักรสดุดี
CATEGORIES:สัมมนาพิเศษ
ATTACH;FMTTYPE=image/jpeg:https://www.sadudee.org/wp-content/uploads/2023/08/Pink-modern-Reminder-Notification-Messages-Instagram-Post-Square.jpg
END:VEVENT
BEGIN:VEVENT
DTSTART;TZID=Asia/Bangkok:20230826T070000
DTEND;TZID=Asia/Bangkok:20230826T190000
DTSTAMP:20260421T105842
CREATED:20230818T102853Z
LAST-MODIFIED:20230818T102853Z
UID:12446-1693033200-1693076400@www.sadudee.org
SUMMARY:อธิษฐาน 12 ชั่วโมง
DESCRIPTION:
URL:https://www.sadudee.org/event/%e0%b8%ad%e0%b8%98%e0%b8%b4%e0%b8%a9%e0%b8%90%e0%b8%b2%e0%b8%99-12-%e0%b8%8a%e0%b8%b1%e0%b9%88%e0%b8%a7%e0%b9%82%e0%b8%a1%e0%b8%87-4/
LOCATION:คริสตจักรสดุดี
ATTACH;FMTTYPE=image/jpeg:https://www.sadudee.org/wp-content/uploads/2023/08/12-Hr-SDD-AUG.jpg
END:VEVENT
END:VCALENDAR